BEGIN:VCALENDAR
VERSION:2.0
PRODID:-//Dallas Ayyappa - ECPv6.15.20//NONSGML v1.0//EN
CALSCALE:GREGORIAN
METHOD:PUBLISH
X-ORIGINAL-URL:https://dallasayyappa.org
X-WR-CALDESC:Events for Dallas Ayyappa
REFRESH-INTERVAL;VALUE=DURATION:PT1H
X-Robots-Tag:noindex
X-PUBLISHED-TTL:PT1H
BEGIN:VTIMEZONE
TZID:UTC
BEGIN:STANDARD
TZOFFSETFROM:+0000
TZOFFSETTO:+0000
TZNAME:UTC
DTSTART:20240101T000000
END:STANDARD
END:VTIMEZONE
BEGIN:VEVENT
DTSTART;TZID=UTC:20251221T103000
DTEND;TZID=UTC:20251221T113000
DTSTAMP:20260421T114845
CREATED:20251207T121454Z
LAST-MODIFIED:20251207T121617Z
UID:2284-1766313000-1766316600@dallasayyappa.org
SUMMARY:Week 7 - 21 Dec 2025 Event
DESCRIPTION:Week#\n\n\nMandalam\n\n\nAvailable\n\n\nDay\n\n\nDate\n\n\nTime\n\n\nDevotee\n\n\nAddress\n\n\n\n\nWeek 7\n\n\n40\n\n\nBooked\n\n\nSunday\n\n\n21-Dec 25\n\n\n10:30 AM\n\n\nBalakrishna Jayakrishna\n\n\n2312 Candler Club way\, Little Elm\n\n\n\n\n 
URL:https://dallasayyappa.org/event/week-7-21-dec-2025-event/
LOCATION:3312 Canyon Lake Dr\, Little Elm\, 3312 Canyon Lake Dr\,\, Little Elm\, United States
END:VEVENT
BEGIN:VEVENT
DTSTART;TZID=UTC:20251220T190000
DTEND;TZID=UTC:20251220T203000
DTSTAMP:20260421T114845
CREATED:20251207T121149Z
LAST-MODIFIED:20251207T121350Z
UID:2278-1766257200-1766262600@dallasayyappa.org
SUMMARY:Week 6 - 20 Dec 2025 Event
DESCRIPTION:Week#\n\n\nMandalam\n\n\nAvailable\n\n\nDay\n\n\nDate\n\n\nTime\n\n\nDevotee\n\n\nAddress\n\n\n\n\nWeek 6\n\n\n36\n\n\nBooked\n\n\nSaturday\n\n\n20-Dec 25\n\n\n7:00 PM\n\n\nPrashant Nambiar\n\n\n2312 Candler Club way\, Little Elm\n\n\n\n\n 
URL:https://dallasayyappa.org/event/week-6-20-dec-2025-event/
LOCATION:2312 Candler Club way\, Little Elm\, 2312 Candler Club way\, Little Elm\, TX\, United States
END:VEVENT
BEGIN:VEVENT
DTSTART;TZID=UTC:20251219T190000
DTEND;TZID=UTC:20251219T203000
DTSTAMP:20260421T114845
CREATED:20251207T120958Z
LAST-MODIFIED:20251207T121016Z
UID:2273-1766170800-1766176200@dallasayyappa.org
SUMMARY:Week 6 - 19 Dec 2025 Event
DESCRIPTION:Week#\n\n\nMandalam\n\n\nAvailable\n\n\nDay\n\n\nDate\n\n\nTime\n\n\nDevotee\n\n\nAddress\n\n\n\n\nWeek 6\n\n\n35\n\n\nBooked\n\n\nFriday\n\n\n19-Dec 25\n\n\n7:00 PM\n\n\nRajesh Khanna\n\n\n12421 Compassplant Drive\, Frisco\n\n\n\n\n 
URL:https://dallasayyappa.org/event/week-6-19-dec-2025-event/
LOCATION:12421 Compassplant Drive\, Frisco\, Compassplant Drive\, Frisco\, United States
END:VEVENT
BEGIN:VEVENT
DTSTART;TZID=UTC:20251214T103000
DTEND;TZID=UTC:20251214T113000
DTSTAMP:20260421T114845
CREATED:20251207T115436Z
LAST-MODIFIED:20251207T115908Z
UID:2266-1765708200-1765711800@dallasayyappa.org
SUMMARY:Week 6 - 14 Dec 2025 Event
DESCRIPTION:Week#\n\n\nMandalam\n\n\nAvailable\n\n\nDay\n\n\nDate\n\n\nTime\n\n\nDevotee\n\n\nAddress\n\n\n\n\nWeek 6\n\n\n34\n\n\nBooked\n\n\nSunday\n\n\n14-Dec 25\n\n\n7:00 PM\n\n\nSarath Chennupati\n\n\n3444 Palm Lake Drive\, Little Elm\, TX 75068\n\n\n\n\n 
URL:https://dallasayyappa.org/event/week-6-14-dec-2025-event/
LOCATION:3444 Palm Lake Drive\, Little Elm\, TX 75068\, 3444 Palm Lake Drive\, Little Elm\, TX\, Texas\, TX\, 75068\, United States
END:VEVENT
BEGIN:VEVENT
DTSTART;TZID=UTC:20251213T190000
DTEND;TZID=UTC:20251213T203000
DTSTAMP:20260421T114845
CREATED:20251207T111824Z
LAST-MODIFIED:20251207T112932Z
UID:2253-1765652400-1765657800@dallasayyappa.org
SUMMARY:Week 5 - 13 Dec 2025 Event
DESCRIPTION:Week#\n\n\nMandalam\n\n\nAvailable\n\n\nDay\n\n\nDate\n\n\nTime\n\n\nDevotee\n\n\nAddress\n\n\n\n\nWeek 5\n\n\n29\n\n\nBooked\n\n\nSaturday\n\n\n13-Dec 25\n\n\n7:00 PM\n\n\nSenthil Rajendran\n\n\n530 Evergreen\, Coppell TX 75019\n\n\n\n\n 
URL:https://dallasayyappa.org/event/week-5-13-dec-2025-event/
LOCATION:530 Evergreen\, Coppell TX 75019\, 530 Evergreen\, Coppell TX\, Texas\, 75019\, United States
END:VEVENT
BEGIN:VEVENT
DTSTART;TZID=UTC:20251212T190000
DTEND;TZID=UTC:20251212T203000
DTSTAMP:20260421T114845
CREATED:20251207T111153Z
LAST-MODIFIED:20251207T111600Z
UID:2250-1765566000-1765571400@dallasayyappa.org
SUMMARY:Week 5 - 12 Dec 2025 Event
DESCRIPTION:Week#\n\n\nMandalam\n\n\nAvailable\n\n\nDay\n\n\nDate\n\n\nTime\n\n\nDevotee\n\n\nAddress\n\n\n\n\nWeek 5\n\n\n28\n\n\nBooked\n\n\nSunday\n\n\n12-Dec 25\n\n\n7:00 PM\n\n\nSreejith Kadavil\n\n\n8821 Wyndemere Lane\, Frisco 75036\n\n\n\n\n 
URL:https://dallasayyappa.org/event/week-5-12-dec-2025-event-2/
LOCATION:8821 Wyndemere Lane\, Frisco 75036\, 8821 Wyndemere Lane\, Frisco\, TX\, 75036\, United States
END:VEVENT
BEGIN:VEVENT
DTSTART;TZID=UTC:20251207T103000
DTEND;TZID=UTC:20251207T113000
DTSTAMP:20260421T114845
CREATED:20251207T073628Z
LAST-MODIFIED:20251207T111449Z
UID:2012-1765103400-1765107000@dallasayyappa.org
SUMMARY:Week 5 - 07 Dec 2025 Event
DESCRIPTION:Week#\n\n\nMandalam\n\n\nAvailable\n\n\nDay\n\n\nDate\n\n\nTime\n\n\nDevotee\n\n\nAddress\n\n\n\n\nWeek 5\n\n\n27\n\n\nBooked\n\n\nSunday\n\n\n7-Dec 25\n\n\n6:30 PM\n\n\nRajesh Rayana\n\n\n10654 Grayhead Drive\, Frisco\n\n\n\n\n 
URL:https://dallasayyappa.org/event/week-5-07-dec-2025-event/
LOCATION:8821 Wyndemere Lane\, Frisco 75036\, 8821 Wyndemere Lane\, Frisco\, TX\, 75036\, United States
END:VEVENT
END:VCALENDAR